BEGIN:VCALENDAR
VERSION:2.0
PRODID:icalendar-ruby
CALSCALE:GREGORIAN
BEGIN:VEVENT
DTSTAMP:20260314T155736Z
UID:event-occurrence-33a56cc1-b5d2-4356-9122-1ee3a96bd57a-event-fff79ccf-98
 d8-43a8-b567-571375cf067b@termine-e
DTSTART:20260629T190000
DTEND:20260629T000000
CLASS:PUBLIC
LOCATION:Lukaskirche\, Schlesierstr. 5\, 31139\, Hildesheim
SUMMARY:Christsein in der Gesellschaft: Theologie mit Kaffee und Kuchen\, P
 astor Florian Giesel
END:VEVENT
END:VCALENDAR
