BEGIN:VCALENDAR
VERSION:2.0
PRODID:icalendar-ruby
CALSCALE:GREGORIAN
BEGIN:VEVENT
DTSTAMP:20260314T144546Z
UID:event-occurrence-103badfe-57e2-4a20-aefb-2173b41861ed-event-ff14eaf6-c4
 8c-436e-a4d6-e8571b295e9f@termine-e
DTSTART:20270413T170000
DTEND:20270413T180000
CLASS:PUBLIC
DESCRIPTION:In dieser Probe bereiten sich die Konfirmandinnen und Konfirman
 den gemeinsam auf ihren Konfirmationsgottesdienst vor. Der Ablauf der Konf
 irmation wird erklärt und Schritt für Schritt durchgegangen\, damit am g
 roßen Tag alles reibungslos abläuft.Nur für die Konfirmandinnen und Kon
 firmanden\, die am zweiten Termin konfirmiert werden.Hinweis:Die angegeben
 en Uhrzeiten dienen zur Orientierung und können sich im Einzelfall noch 
 ändern.Der genaue Treffpunkt sowie weitere organisatorische Informationen
 ...
LOCATION:ev.-luth. Kirche St. Marien\, Kirchstraße 6\, 29339\, Wathlingen
SUMMARY:KUEXTRA: Probe für die Konfirmation II
END:VEVENT
END:VCALENDAR
