BEGIN:VCALENDAR
VERSION:2.0
PRODID:icalendar-ruby
CALSCALE:GREGORIAN
BEGIN:VEVENT
DTSTAMP:20260401T092317Z
UID:event-occurrence-d59323f1-4649-49fd-80b1-4c79bd26eac9-event-fe88fe10-06
 e6-440d-b231-84054a962876@termine-e
DTSTART:20260502T180000
DTEND:20260502T000000
CLASS:PUBLIC
LOCATION:St. Severi Otterndorf\, Am Kirchplatz 2\, 21762\, Otterndorf
SUMMARY:Konzert Gospelchor Hildesheim in St. Severi Otterndorf
END:VEVENT
END:VCALENDAR
