BEGIN:VCALENDAR
VERSION:2.0
PRODID:icalendar-ruby
CALSCALE:GREGORIAN
BEGIN:VEVENT
DTSTAMP:20260424T154512Z
UID:event-occurrence-7c9b4a26-4c8e-40cd-8eba-5aae8a303635-event-fce35b4f-7d
 9e-4ef3-95b9-e2ed13d8e86f@termine-e
DTSTART:20260517T180000
DTEND:20260517T000000
CLASS:PUBLIC
DESCRIPTION:Eine Veranstaltung im Rahmen des Mitsingfestivals:17. Mai 2026\
 , 18:00 Uhr: Lasst die Heide erklingen\, 2. Mitsingabend in der Südheide\
 , St. Laurentius Faßberg\, Alte Dorf­stra­ße 14\, 29328 Faßberg
LOCATION:St. Laurentius Faßberg-Müden\, Alte Dorfstraße 14\, 29328\, Fa
 ßberg
SUMMARY:Lasst die Heide erklingen\, 2. Mitsingabend in der Südheide
END:VEVENT
END:VCALENDAR
