BEGIN:VCALENDAR
VERSION:2.0
PRODID:icalendar-ruby
CALSCALE:GREGORIAN
BEGIN:VEVENT
DTSTAMP:20260320T083822Z
UID:event-occurrence-163f39ca-31fe-4d60-b1d4-765047d9fa87-event-fc971332-87
 c3-4950-85ed-9e729221d850@termine-e
DTSTART:20261123T150000
DTEND:20261127T130000
CLASS:PUBLIC
DESCRIPTION:„Der wahre Weg beginnt dort\, wo wir aufhören\, uns selbst f
 estzuhalten.“Thomas Merton Mystiker/TrappistenmönchIn Beschreibungen de
 r Welt und der Situation der Kirche taucht regelmäßig das Wort „Polykr
 ise“ auf. Was in der Welt mal fest und einsichtig war\, zeigt sich mehr 
 und mehr brüchig und unverstehbar. Plötzlich funktionieren Lösungs- und
  Bewältigungsstrategien nicht mehr\, die bislang ganz solide geliefert ha
 ben. Und vielleicht die größte Herausforderung – ein einfaches Update 
 ist gar nicht ...
LOCATION:Geistliches Zentrum Kloster Bursfelde\, Klosterhof 5\, 34346\, Han
 n. Münden OT Bursfelde
SUMMARY:System-Update für den Wandel: Spirituelle und soziale Praktiken in
  unsicheren Zeiten
END:VEVENT
END:VCALENDAR
