BEGIN:VCALENDAR
VERSION:2.0
PRODID:icalendar-ruby
CALSCALE:GREGORIAN
BEGIN:VEVENT
DTSTAMP:20260324T223739Z
UID:event-occurrence-ddd6a283-6bda-45fd-a37a-62d830a78f00-event-fc3c0aad-a2
 47-4261-9026-09642eef4525@termine-e
DTSTART:20260517T093000
DTEND:20260517T000000
CLASS:PUBLIC
DESCRIPTION:P. Görnandt
LOCATION:St. Cosmaes et Damiani Kirche\, Kirchstraße 15\, 27313\, Dörverd
 en
SUMMARY:Exaudi in Dörverden
END:VEVENT
END:VCALENDAR
