BEGIN:VCALENDAR
VERSION:2.0
PRODID:icalendar-ruby
CALSCALE:GREGORIAN
BEGIN:VEVENT
DTSTAMP:20260324T223739Z
UID:event-occurrence-7dd7576a-5b7e-4694-a51b-6ec3aa8ba66c-event-fbdc0838-e4
 53-46d0-be6e-2eeae90047cc@termine-e
DTSTART:20260517T110000
DTEND:20260517T000000
CLASS:PUBLIC
DESCRIPTION:P. Görnandt
LOCATION:St. Annen Kirche\, Fährstraße 5\, 27313\, Westen
SUMMARY:Exaudi in Westen
END:VEVENT
END:VCALENDAR
