BEGIN:VCALENDAR
VERSION:2.0
PRODID:icalendar-ruby
CALSCALE:GREGORIAN
BEGIN:VEVENT
DTSTAMP:20260424T115246Z
UID:event-occurrence-ff180169-6bac-4609-9458-029f6607f27c-event-fb315b35-9b
 25-4c8e-b2e8-35f88d5cc9a4@termine-e
DTSTART:20260527T180000
DTEND:20260527T000000
CLASS:PUBLIC
LOCATION:ESG-Osnabrück\, Arndtstraße 19\, 49080\, Osnabrück
SUMMARY:ESG Abendbrot
END:VEVENT
END:VCALENDAR
