BEGIN:VCALENDAR
VERSION:2.0
PRODID:icalendar-ruby
CALSCALE:GREGORIAN
BEGIN:VEVENT
DTSTAMP:20260413T065529Z
UID:event-occurrence-e0be989a-e611-465a-bceb-912fd0155151-event-fa0b8584-0a
 74-4596-94ba-c8f36fff57f7@termine-e
DTSTART:20260816T103000
DTEND:20260816T000000
CLASS:PUBLIC
DESCRIPTION:Pn. FröhlichMusik: Brödling
LOCATION:Christuskirche\, An der Stadtkirche 5\, 31812\, Bad Pyrmont
SUMMARY:Gottesdienst
END:VEVENT
END:VCALENDAR
