BEGIN:VCALENDAR
VERSION:2.0
PRODID:icalendar-ruby
CALSCALE:GREGORIAN
BEGIN:VEVENT
DTSTAMP:20260422T072117Z
UID:event-occurrence-13196348-5c1c-4206-b157-15f9f696079a-event-fa011ccd-1e
 a1-4f3c-bade-a17bd0a5ce93@termine-e
DTSTART:20260503T000000
DTEND:20260503T000000
CLASS:PUBLIC
DESCRIPTION:mit Präd. H.H. Woltmann Musik: ChorTöne
LOCATION:Petruskirche Loga\, Verbindungsweg 31-33\, 26789\, Leer
SUMMARY:Gottesdienst
END:VEVENT
END:VCALENDAR
