BEGIN:VCALENDAR
VERSION:2.0
PRODID:icalendar-ruby
CALSCALE:GREGORIAN
BEGIN:VEVENT
DTSTAMP:20260210T112223Z
UID:event-occurrence-b9594f64-e972-4cbc-b1ee-d120cdd571b6-event-f9f98f8b-00
 16-4901-9f16-31bd22af331d@termine-e
DTSTART:20260315T170000
DTEND:20260315T000000
CLASS:PUBLIC
LOCATION:Stadtkirche Celle\, An der Stadtkirche 8\, 29221\, Celle
SUMMARY:Celler Stadtkantorei präsentiert die Johannespassion in der Stadtk
 irche
END:VEVENT
END:VCALENDAR
