BEGIN:VCALENDAR
VERSION:2.0
PRODID:icalendar-ruby
CALSCALE:GREGORIAN
BEGIN:VEVENT
DTSTAMP:20260408T194754Z
UID:event-occurrence-9ce101b0-4179-4ace-9f5c-beec52bc9315-event-f9c402db-7a
 b5-4d35-9840-39bc490aee9e@termine-e
DTSTART:20260428T190000
DTEND:20260428T210000
CLASS:PUBLIC
DESCRIPTION:Bibelgesprächskreis für alle im Gemeindehaus
LOCATION:Gemeindehaus\, Hauptstraße 10\, 27404\, Rhade
SUMMARY:Offener Bibelkreis
END:VEVENT
END:VCALENDAR
