BEGIN:VCALENDAR
VERSION:2.0
PRODID:icalendar-ruby
CALSCALE:GREGORIAN
BEGIN:VEVENT
DTSTAMP:20260330T075924Z
UID:event-occurrence-d57eda1a-7b8c-4ec3-a40a-bd4bf24aed2f-event-f9914d32-b9
 e4-4b17-ac54-04197dfccef0@termine-e
DTSTART:20260519T160000
DTEND:20260519T000000
CLASS:PUBLIC
DESCRIPTION:mit Pastor Thorsten Wasmuth- Hödicke
LOCATION:Residenz am Hainberg\, Ewaldstraße 40\, 37075\, Göttingen
SUMMARY:Gottesdienst mit Abendmahl
END:VEVENT
END:VCALENDAR
