BEGIN:VCALENDAR
VERSION:2.0
PRODID:icalendar-ruby
CALSCALE:GREGORIAN
BEGIN:VEVENT
DTSTAMP:20260306T120406Z
UID:event-occurrence-4081336d-62ac-4e85-87d8-ae0750a54aca-event-f92bd781-83
 38-45f5-904e-3f5c35afddd7@termine-e
DTSTART:20260322T190000
DTEND:20260322T200000
CLASS:PUBLIC
LOCATION:Gemeindehaus Hage\, St. Annenweg 1\, 26524\, Hage
SUMMARY:Abend-Gottesdienst Winterkirche im Gemeindehaus Hage
END:VEVENT
END:VCALENDAR
