BEGIN:VCALENDAR
VERSION:2.0
PRODID:icalendar-ruby
CALSCALE:GREGORIAN
BEGIN:VEVENT
DTSTAMP:20260421T044526Z
UID:event-occurrence-868996d1-aa59-4008-bbb5-cfa5953b41ae-event-f8da3a07-f8
 10-40f1-ade8-3cd5d6f7e82f@termine-e
DTSTART:20260503T180000
DTEND:20260503T000000
CLASS:PUBLIC
DESCRIPTION:Moment mal! Besondere Momente und was sie können :-) - im Ansc
 hluss gibt es einen kleinen leckeren Snack - kommt vorbei!
LOCATION:Kirchengemeinde Etelsen\, Am Denkmal 6\, 27299\, Langwedel-Etelsen
SUMMARY:Abendandacht mit Lektorin P. Meinking
END:VEVENT
END:VCALENDAR
