BEGIN:VCALENDAR
VERSION:2.0
PRODID:icalendar-ruby
CALSCALE:GREGORIAN
BEGIN:VEVENT
DTSTAMP:20260326T130821Z
UID:event-occurrence-50ceb509-d125-4657-a649-cdca7e170efc-event-f8bfba00-7c
 62-417e-8422-25c4c49511c3@termine-e
DTSTART:20270531T100000
DTEND:20270601T160000
CLASS:PUBLIC
DESCRIPTION:Wie reift ein Mensch – geistig\, seelisch und spirituell –i
 m Laufe seines letzten Lebensdrittels? Das Modullädt dazu ein\, die Dimen
 sionen des Glaubens undder Spiritualität im Älterwerdens zu erkunden und
 eigene Erfahrungen in den Blick zu nehmen.Fachliche Impulse eröffnen Zug
 änge zu Themen wieGlauben und christliche Spiritualität\, biografischesE
 rinnern der Lebens- und Glaubenswege des Älterwerdens\,Dankbarkeit\, Losl
 assen\, Abschiednehmenund Transzendenz-Entwicklungen des hohen Alters.Elem
 ente der...
LOCATION:Haus Ohrbeck\, Georgsmarienhütte
SUMMARY:älterwerden.endlich.leben Modul 7_Im Licht des Lebens – Ganz Men
 sch\, spirituell reifen bis zuletzt
END:VEVENT
END:VCALENDAR
