BEGIN:VCALENDAR
VERSION:2.0
PRODID:icalendar-ruby
CALSCALE:GREGORIAN
BEGIN:VEVENT
DTSTAMP:20260413T071617Z
UID:event-occurrence-aeee4cc8-1e96-46d4-acd1-6d00b878ce17-event-f87cebf2-fa
 4b-4198-984d-9d70ce176207@termine-e
DTSTART:20260430T190000
DTEND:20260430T000000
CLASS:PUBLIC
DESCRIPTION:In Kooperation mit der Petrus-Kirchengemeinde Barsinghausen\, l
 ädt Sie die AWO Frauenberatungsstelle zu einem Filmabend für Frauen ein.
 zum Film: Ein mitreißendes Drama über Freundschaft und Liebe der deutsch
 -amerikanischen Auswanderer. Nach dem Ersten Weltkrieg hat Metzgermeister 
 Fidelis Waldvogel im elterlichen Betrieb keinen Platz mehr. Um für sich u
 nd Eva\, die schwangere Verlobte seines gefallenen Freundes\, ein besseres
  Leben zu ermöglichen\, wandert er aus nach Argus\, North Dakota. Hier tr
 i...
LOCATION:Petrusgemeinde\, Langenäcker 40\, 30890\, Barsinghausen
SUMMARY:Filmabend für Frauen in Barsinghausen
END:VEVENT
END:VCALENDAR
