BEGIN:VCALENDAR
VERSION:2.0
PRODID:icalendar-ruby
CALSCALE:GREGORIAN
BEGIN:VEVENT
DTSTAMP:20260329T141446Z
UID:event-occurrence-869727b2-874d-4dc1-80b5-133e9ef1aea0-event-f811c124-d4
 4c-48c5-ae08-053712fd44cc@termine-e
DTSTART:20260530T083000
DTEND:20260530T103000
CLASS:PUBLIC
DESCRIPTION:Am 30.05.2026 von 8.30 bis 10.30 Uhr wartet im Gemeindehaus (Am
  Kirchhofe 4d) ein großes Frühstücksbuffet auf hungrige Gäste.Um Anmel
 dung wird gebeten: Gemeindebüro\, Tel. 05109 519547\, E-Mail kg.ronnenber
 g@evlka.de\; oder Doris Peckmann\, Tel. 05109 9292
LOCATION:Gemeindehaus der Michaelisgemeinde\, Am Kirchhofe 4D\, 30952\, Ron
 nenberg
SUMMARY:Michaelisfrühstück
END:VEVENT
END:VCALENDAR
