BEGIN:VCALENDAR
VERSION:2.0
PRODID:icalendar-ruby
CALSCALE:GREGORIAN
BEGIN:VEVENT
DTSTAMP:20260326T125423Z
UID:event-occurrence-d7db1379-58eb-4fad-a12c-8968b43603ed-event-f7998d61-04
 f6-421d-8c07-cfdde611cd14@termine-e
DTSTART:20271005T140000
DTEND:20271006T130000
CLASS:PUBLIC
DESCRIPTION:Älterwerden betrifft uns nicht alle gleich. Herkunft\,Geschlec
 ht\, Bildung\, Religion\, körperliche und geistigeGesundheit\, sexuelle O
 rientierung\, soziale Lageoder Lebensstil prägen\, wie Menschen Altern er
 lebenund gestalten. Diese Vielfalt eröffnet Chancen\, fordertaber auch he
 raus. Das Modul lädt dazu ein\, die unterschiedlichenLebensrealitäten ä
 lterer Menschenwahrzunehmen und die eigene Praxis diversitätssensibelweit
 erzuentwickeln. Es geht um ein Verständnisvon Alter\, das Vielfalt wertsc
 hätzt und...
LOCATION:
SUMMARY:älterwerden.endlich.leben Modul 9_Ein Alter\, viele Gesichter – 
 Diversität verstehen und gestalten
END:VEVENT
END:VCALENDAR
