BEGIN:VCALENDAR
VERSION:2.0
PRODID:icalendar-ruby
CALSCALE:GREGORIAN
BEGIN:VEVENT
DTSTAMP:20260314T143829Z
UID:event-occurrence-bd4afdb5-a189-43eb-8156-24eac56875b1-event-f7756cf8-27
 44-4e4a-843e-a62d46c44d6b@termine-e
DTSTART:20261208T170000
DTEND:20261208T190000
CLASS:PUBLIC
DESCRIPTION:In dieser Einheit schauen wir den letzten Teil des Films Die Bi
 bel – Jesus und beschäftigen uns mit den letzten Tagen im Leben Jesu 
 – seinem Leiden\, seinem Tod und der Auferstehung. Gemeinsam sprechen wi
 r darüber\, warum diese Ereignisse für den christlichen Glauben von zent
 raler Bedeutung sind.
LOCATION:Gemeindehaus der ev.-luth. Kirche St. Marien\, Kirchstraße 4\, 29
 339\, Wathlingen
SUMMARY:KU13: Jesus III
END:VEVENT
END:VCALENDAR
