BEGIN:VCALENDAR
VERSION:2.0
PRODID:icalendar-ruby
CALSCALE:GREGORIAN
BEGIN:VEVENT
DTSTAMP:20260419T093431Z
UID:event-occurrence-36c5554e-5c6f-43e5-a2d4-77b0e0a10e13-event-f74ddb97-c3
 fc-4537-948a-b5dcae9b66f0@termine-e
DTSTART:20260421T163000
DTEND:20260421T000000
CLASS:PUBLIC
DESCRIPTION:Anpacken\, mithelfen\, unterstützen. Darum geht’s in einer G
 emeinde ja immer wieder. Gemeinde lebt vom Miteinander. Die Feste und Akti
 onen wollen vorbereitet und geplant werden. Dazu treffen wir uns in der Re
 gel einmal im Monat zum MAK. Alle\, die in der Gemeinde mitarbeiten oder e
 s künftig möchten\, sind herzlich eingeladen. Wir hören auf ein Wort Go
 ttes\, beten für die Gemeinde und sprechen über die Dinge\, die anliegen
 .
LOCATION:Ev.-luth. Gnadenkirche zum Heiligen Kreuz\, Lehrter Platz 5\, 3051
 9\, Hannover
SUMMARY:Mitarbeiterkreis MAK
END:VEVENT
END:VCALENDAR
