BEGIN:VCALENDAR
VERSION:2.0
PRODID:icalendar-ruby
CALSCALE:GREGORIAN
BEGIN:VEVENT
DTSTAMP:20260310T071540Z
UID:event-occurrence-9c9d394d-9785-4521-b86a-af29e1ae61d7-event-f72a65ad-c5
 54-4c1d-a430-2f4d850fe5d4@termine-e
DTSTART:20260406T110000
DTEND:20260406T000000
CLASS:PUBLIC
LOCATION:St. Andreas Geversdorf\, An der Kirche\, 21784\, Geversdorf
SUMMARY:Familiengottesdienst am Ostermontag in Geversdorf
END:VEVENT
END:VCALENDAR
