BEGIN:VCALENDAR
VERSION:2.0
PRODID:icalendar-ruby
CALSCALE:GREGORIAN
BEGIN:VEVENT
DTSTAMP:20260303T091945Z
UID:event-occurrence-92980bdb-6975-4e80-a337-08aa88aacb32-event-f619e0c9-0a
 25-46ac-a227-11a140e8567b@termine-e
DTSTART:20260315T093000
DTEND:20260315T000000
CLASS:PUBLIC
LOCATION:Ehra\, Michaeliskirche\, Am Dorfring 1\, 38468\, Ehra-Lessien
SUMMARY:Gottesdienst
END:VEVENT
END:VCALENDAR
