BEGIN:VCALENDAR
VERSION:2.0
PRODID:icalendar-ruby
CALSCALE:GREGORIAN
BEGIN:VEVENT
DTSTAMP:20260423T091836Z
UID:event-occurrence-3a84e8dd-e111-4536-99b6-b9f4d480ad01-event-f5f6ef47-b3
 61-4e26-9596-e06ca30190f6@termine-e
DTSTART:20260512T190000
DTEND:20260512T000000
CLASS:PUBLIC
LOCATION:Ev.-luth. Markuskirche\, Ulmenweg 11a\, 31139\, Hildesheim
SUMMARY:Elternabend zur Konfirmation 2027
END:VEVENT
END:VCALENDAR
