BEGIN:VCALENDAR
VERSION:2.0
PRODID:icalendar-ruby
CALSCALE:GREGORIAN
BEGIN:VEVENT
DTSTAMP:20260315T181318Z
UID:event-occurrence-1367735c-1659-455c-8798-ada66b611568-event-f5932e73-34
 54-49ac-84d7-e316b13d691c@termine-e
DTSTART:20260322T143000
DTEND:20260322T000000
CLASS:PUBLIC
DESCRIPTION:Gemeinsam sitzen wir in der Kirche am Tisch\, trinken Tee\, fei
 ern Gottesdienst und kommen miteinander ins Gespräch. In der Passionszeit
  richtet sich der Blick auf Jesus und seinen Weg des Leidens. Dabei geht e
 s um die Frage\, was dieser Weg für unser Leben heute bedeutet: Was träg
 t\, wenn es schwer wird? Wo erfahren wir Ohnmacht\, Unsicherheit oder Gren
 zen? Und wo kann daraus Hoffnung wachsen?
LOCATION:Kirche Siegelsum\, Eetsweg\, 26529\, Siegelsum
SUMMARY:Tee-Gottesdienst in Siegelsum
END:VEVENT
END:VCALENDAR
