BEGIN:VCALENDAR
VERSION:2.0
PRODID:icalendar-ruby
CALSCALE:GREGORIAN
BEGIN:VEVENT
DTSTAMP:20260420T104013Z
UID:event-occurrence-cebbf39a-d5cc-48f6-a281-bf8778ff9787-event-f50a19cf-e8
 56-4518-946a-07cf195ca3e2@termine-e
DTSTART:20260503T114500
DTEND:20260503T000000
CLASS:PUBLIC
LOCATION:St. Katharinen\, An der Katharinenkirche 8\, 49074\, Osnabrück
SUMMARY:Taufgottesdienst\, Pastorin Dr. Laura Schimmelpfennig\, Kantor Arne
  Hatje
END:VEVENT
END:VCALENDAR
