BEGIN:VCALENDAR
VERSION:2.0
PRODID:icalendar-ruby
CALSCALE:GREGORIAN
BEGIN:VEVENT
DTSTAMP:20260328T101315Z
UID:event-occurrence-8be7623e-0c8e-40fc-bcac-22bf2f5cdbfe-event-f4e24af9-aa
 91-4d7a-903f-0d2d776cad8e@termine-e
DTSTART:20260525T103000
DTEND:20260525T000000
CLASS:PUBLIC
LOCATION:Herrenhäuser Kirche\, Hegebläch 19\, 30419\, Hannover
SUMMARY:Regionalgottesdienst
END:VEVENT
END:VCALENDAR
