BEGIN:VCALENDAR
VERSION:2.0
PRODID:icalendar-ruby
CALSCALE:GREGORIAN
BEGIN:VEVENT
DTSTAMP:20260413T065308Z
UID:event-occurrence-9f6fa649-6e91-4a1f-8f9b-c1a0fbc11933-event-f4c58af6-b2
 59-44e1-a906-0e169128f285@termine-e
DTSTART:20260814T180000
DTEND:20260814T000000
CLASS:PUBLIC
DESCRIPTION:Pn. FröhlichMusik: Rauterberg\, Gitarre
LOCATION:Christuskirche\, An der Stadtkirche 5\, 31812\, Bad Pyrmont
SUMMARY:Gottesdienst zur Einschulung
END:VEVENT
END:VCALENDAR
