BEGIN:VCALENDAR
VERSION:2.0
PRODID:icalendar-ruby
CALSCALE:GREGORIAN
BEGIN:VEVENT
DTSTAMP:20260410T113445Z
UID:event-occurrence-a5c92c49-f468-48d1-9a94-c034cfd009ef-event-f4310b6d-79
 b5-4d28-8c26-1338e41bb1b2@termine-e
DTSTART:20260913T000000
DTEND:20261018T000000
CLASS:PUBLIC
DESCRIPTION:Über einen Zeitraum von 12 Jahren entstanden 50Motive zu Leben
 sgeschichten und einschneidenden\,prägenden Erfahrungen älterer Menschen
 .Auf der Grundlage langer Vorgespräche fandensich ‚Requisiten‘\, die 
 mit diesen Erfahrungen verbundensind. Die Bilder auf winterlichen\, kahlen
 Äckern sind Zeichen dieser persönlichen Lebensgeschichten.Sie können al
 lgemeingültig für die Erfahrungendieser Generation stehen.
LOCATION:Kreuzkirche\, Nordhorn
SUMMARY:PASSAGE Die Dinge | Das Leben - Fotoausstellung von Klaus G. Kohn
END:VEVENT
END:VCALENDAR
