BEGIN:VCALENDAR
VERSION:2.0
PRODID:icalendar-ruby
CALSCALE:GREGORIAN
BEGIN:VEVENT
DTSTAMP:20260402T083038Z
UID:event-occurrence-e3c6ec5a-2268-4444-9d0f-5091e3f38b04-event-f3bf4402-c5
 c7-4d6c-ba0d-5bd8353eb0a5@termine-e
DTSTART:20261001T160000
DTEND:20261001T173000
CLASS:PUBLIC
DESCRIPTION:Wir treffen uns zum Spielen\, Singen und Geschichten hören. Al
 le Kids ab 7 Jahren sind herzlich eingeladen.Keine Anmeldung erforderlich.
 Bitte eine Notfallnummer mitgeben!
LOCATION:Gemeindehaus\, An der Kirche 6\, 21698\, Bargstedt
SUMMARY:7up - die Kinderstunde
END:VEVENT
END:VCALENDAR
