BEGIN:VCALENDAR
VERSION:2.0
PRODID:icalendar-ruby
CALSCALE:GREGORIAN
BEGIN:VEVENT
DTSTAMP:20260416T151110Z
UID:event-occurrence-660b8a1f-9c70-4c75-bba5-c6e19f616348-event-f3893854-90
 fb-48bd-bb78-11b2457ac03d@termine-e
DTSTART:20260426T110000
DTEND:20260426T000000
CLASS:PUBLIC
DESCRIPTION:Die Konfirmationsfeier ist die Bekräftigung\, im Glauben an Je
 sus zu bleiben und zu wachsen.
LOCATION:Ev.-luth. Kreuzkirche\, Universitätsplatz 1\, 49808\, Lingen
SUMMARY:Konfirmation - Gruppe 1
END:VEVENT
END:VCALENDAR
