BEGIN:VCALENDAR
VERSION:2.0
PRODID:icalendar-ruby
CALSCALE:GREGORIAN
BEGIN:VEVENT
DTSTAMP:20260314T144552Z
UID:event-occurrence-e37070ff-3e4a-435f-9a18-e9dec7363688-event-f2b9335c-96
 d9-4064-a824-df2470879fd3@termine-e
DTSTART:20270418T100000
DTEND:20270418T110000
CLASS:PUBLIC
DESCRIPTION:In diesem festlichen Gottesdienst werden die Konfirmandinnen un
 d Konfirmanden eingesegnet. Sie bestätigen ihren Glauben und erhalten den
  Segen für ihren weiteren Lebensweg. Gemeinsam mit Familien\, Patinnen un
 d Paten sowie der Gemeinde wird dieser besondere Moment gefeiert.Nur für 
 die Konfirmandinnen und Konfirmanden\, die am zweiten Termin konfirmiert w
 erden.Hinweis:Die angegebenen Uhrzeiten dienen zur Orientierung und könne
 n sich im Einzelfall noch ändern.Der genaue Treffpunkt sowie weitere o...
LOCATION:ev.-luth. Kirche St. Marien\, Kirchstraße 6\, 29339\, Wathlingen
SUMMARY:KUEXTRA: Konfirmation II
END:VEVENT
END:VCALENDAR
