BEGIN:VCALENDAR
VERSION:2.0
PRODID:icalendar-ruby
CALSCALE:GREGORIAN
BEGIN:VEVENT
DTSTAMP:20260424T153033Z
UID:event-occurrence-298661d2-5c4d-45b9-abea-fb6c43ecddb8-event-f22332a6-73
 1c-4609-b588-67d582421dad@termine-e
DTSTART:20260505T080000
DTEND:20260516T000000
CLASS:PUBLIC
DESCRIPTION:Eine Veranstaltung im Rahmen des Mitsingfestivals:05. Mai - 09.
  Mai und 12. Mai - 16. Mai 2026\, 08:00 Uhr: Gemeinsam in den Tag singen\,
  Musikalischer Morgenimpuls\, Evangelisches Bildungszentrum Hermannsburg\,
  Lut­ter­weg 16\, 29320 Südheide
LOCATION:Ev. Bildungszentrum Hermannsburg\, Lutterweg 16\, 29320\, Südheid
 e
SUMMARY:Gemeinsam in den Tag singen – Musikalischer Morgenimpuls
END:VEVENT
END:VCALENDAR
