BEGIN:VCALENDAR
VERSION:2.0
PRODID:icalendar-ruby
CALSCALE:GREGORIAN
BEGIN:VEVENT
DTSTAMP:20260417T154916Z
UID:event-occurrence-f439a134-4b9a-42dc-b8c7-1f0785c0b9f4-event-f1cc11e4-bc
 ad-4234-a6c7-2ee2f76768e5@termine-e
DTSTART:20260504T190000
DTEND:20260504T000000
CLASS:PUBLIC
LOCATION:Gemeindesaal\, An der Kirche 25\, 30457\, Hannover
SUMMARY:Kirchenchor
END:VEVENT
BEGIN:VEVENT
DTSTAMP:20260417T154917Z
UID:event-occurrence-ffd4a68b-63c4-48c6-9523-a16799f0db29-event-f1cc11e4-bc
 ad-4234-a6c7-2ee2f76768e5@termine-e
DTSTART:20260511T190000
DTEND:20260511T000000
CLASS:PUBLIC
LOCATION:Gemeindesaal\, An der Kirche 25\, 30457\, Hannover
SUMMARY:Kirchenchor
END:VEVENT
BEGIN:VEVENT
DTSTAMP:20260417T154917Z
UID:event-occurrence-3a5bdd60-ad38-44f9-a6ba-d39fbc5bade0-event-f1cc11e4-bc
 ad-4234-a6c7-2ee2f76768e5@termine-e
DTSTART:20260518T190000
DTEND:20260518T000000
CLASS:PUBLIC
LOCATION:Gemeindesaal\, An der Kirche 25\, 30457\, Hannover
SUMMARY:Kirchenchor
END:VEVENT
BEGIN:VEVENT
DTSTAMP:20260417T154917Z
UID:event-occurrence-66a26298-a4e8-4653-8a27-891f8a812822-event-f1cc11e4-bc
 ad-4234-a6c7-2ee2f76768e5@termine-e
DTSTART:20260525T190000
DTEND:20260525T000000
CLASS:PUBLIC
LOCATION:Gemeindesaal\, An der Kirche 25\, 30457\, Hannover
SUMMARY:Kirchenchor
END:VEVENT
END:VCALENDAR
