BEGIN:VCALENDAR
VERSION:2.0
PRODID:icalendar-ruby
CALSCALE:GREGORIAN
BEGIN:VEVENT
DTSTAMP:20260422T081651Z
UID:event-occurrence-2d09833c-1ed5-4a9f-98c9-e8d5b18a430a-event-f1c725c6-03
 fe-4253-9226-476243c5c874@termine-e
DTSTART:20260525T110000
DTEND:20260525T000000
CLASS:PUBLIC
DESCRIPTION:PfingstmontagÖkumenischer Gottesdienst an der PeldemühleMusik
 al. Gestaltung: Posaunenchor unter der Leitung von Renate SchühleLiturg. 
 Leitung: Pastor Thiem\, Gemeindereferentin Krüger
LOCATION:Peldemühle Wittmund\, Esenser Str. 14\, 26409\, Wittmund
SUMMARY:Ökumenischer Mühlengottesdienst
END:VEVENT
END:VCALENDAR
