BEGIN:VCALENDAR
VERSION:2.0
PRODID:icalendar-ruby
CALSCALE:GREGORIAN
BEGIN:VEVENT
DTSTAMP:20260409T142229Z
UID:event-occurrence-31648bc6-7d5f-4ee7-a7c8-5533bbc69a7a-event-f1224411-ea
 8f-405e-a265-5ddab15949ba@termine-e
DTSTART:20260426T100000
DTEND:20260426T000000
CLASS:PUBLIC
DESCRIPTION:in Kirchwahlingenmit Pastor Philipp Wollek
LOCATION:
SUMMARY:Gottesdienst mit Abendmahl zur Silbernen Konfirmation...
END:VEVENT
END:VCALENDAR
