BEGIN:VCALENDAR
VERSION:2.0
PRODID:icalendar-ruby
CALSCALE:GREGORIAN
BEGIN:VEVENT
DTSTAMP:20260327T124102Z
UID:event-occurrence-1fcc9b7f-100d-4377-8fbb-594d96990f26-event-f04d7ca2-38
 a3-408e-b965-98d13840e675@termine-e
DTSTART:20260514T100000
DTEND:20260514T000000
CLASS:PUBLIC
DESCRIPTION:Stadtsuperintendent Rainer Müller-Brandes | Pastor Chris Schli
 cht | Chor des Himmelfahrtsworkshops der Gospelkirche\, Ltg. Tine Hamburge
 r &amp\; Jan Meyer
LOCATION:Marktkirche Hannover\, Hanns-Lilje-Platz 2\, 30159\, Hannover
SUMMARY:Gospelgottesdienst: Christi Himmelfahrt
END:VEVENT
END:VCALENDAR
