BEGIN:VCALENDAR
VERSION:2.0
PRODID:icalendar-ruby
CALSCALE:GREGORIAN
BEGIN:VEVENT
DTSTAMP:20260421T134209Z
UID:event-occurrence-77d3b568-e4a0-4d76-b2cd-359e7ddb83a3-event-f010fd42-25
 36-4109-83b3-5078c5f42e3e@termine-e
DTSTART:20260514T110000
DTEND:20260514T000000
CLASS:PUBLIC
LOCATION:Dorfplatz Plate
SUMMARY:Gottesdienst unter freiem Himmel Posaunenchor Plate - Pn. Meinhardt
END:VEVENT
END:VCALENDAR
