BEGIN:VCALENDAR
VERSION:2.0
PRODID:icalendar-ruby
CALSCALE:GREGORIAN
BEGIN:VEVENT
DTSTAMP:20260314T144549Z
UID:event-occurrence-13da3b27-420c-4c0b-8e05-933d98ddc46a-event-effb228b-ee
 fb-40cc-97cf-ddaa3335df39@termine-e
DTSTART:20270417T170000
DTEND:20270417T190000
CLASS:PUBLIC
DESCRIPTION:In diesem Gottesdienst feiern die Konfirmandinnen und Konfirman
 den gemeinsam mit ihren Familien und der Gemeinde das Abendmahl. Für viel
 e ist es das erste Mal\, dass sie bewusst am Abendmahl teilnehmen. Der Got
 tesdienst lädt dazu ein\, die Gemeinschaft des Glaubens zu erleben und si
 ch auf die bevorstehende Konfirmation einzustimmen.Nur für die Konfirmand
 innen und Konfirmanden\, die am zweiten Termin konfirmiert werden.Hinweis:
 Die angegebenen Uhrzeiten dienen zur Orientierung und können sich im E...
LOCATION:ev.-luth. Kirche St. Marien\, Kirchstraße 6\, 29339\, Wathlingen
SUMMARY:KUEXTRA: Abendmahls-Gottesdienst II
END:VEVENT
END:VCALENDAR
