BEGIN:VCALENDAR
VERSION:2.0
PRODID:icalendar-ruby
CALSCALE:GREGORIAN
BEGIN:VEVENT
DTSTAMP:20260416T102726Z
UID:event-occurrence-127470e9-f5cc-4085-abc2-bc21e81b17bb-event-efdf74d5-11
 c5-4589-a8fb-5c68f820923b@termine-e
DTSTART:20260604T190000
DTEND:20260604T000000
CLASS:PUBLIC
DESCRIPTION:Leitung: Heike MoormannOrt: Steinwerk St. Katharinen
LOCATION:Steinwerk St. Katharinen\, An d. Katharinenkirche 4\, 49074\, Osna
 brück
SUMMARY:Herzensgebet
END:VEVENT
END:VCALENDAR
