BEGIN:VCALENDAR
VERSION:2.0
PRODID:icalendar-ruby
CALSCALE:GREGORIAN
BEGIN:VEVENT
DTSTAMP:20260304T193054Z
UID:event-occurrence-dea57684-f2a7-4b15-a592-145872e3fbe0-event-ef7e6858-c0
 38-45ae-ad5d-940ad1cf27f8@termine-e
DTSTART:20260315T110000
DTEND:20260315T000000
CLASS:PUBLIC
DESCRIPTION:mit Pastorin Daniela Freesemann
LOCATION:St. Lucas-Kirche Pattensen\, Corvinusplatz 2\, 30982\, Pattensen
SUMMARY:Pattensen: Hospiz-Gottesdienst
END:VEVENT
END:VCALENDAR
