BEGIN:VCALENDAR
VERSION:2.0
PRODID:icalendar-ruby
CALSCALE:GREGORIAN
BEGIN:VEVENT
DTSTAMP:20260416T092923Z
UID:event-occurrence-ebf4db73-5c43-4ac6-9d64-01fbc6087b1c-event-ef081d0a-c3
 b4-4354-b647-001a37f70664@termine-e
DTSTART:20260429T150000
DTEND:20260429T163000
CLASS:PUBLIC
DESCRIPTION:Das Kreuz – Bedeutung und Geschichte des wichtigsten Glaubens
 symbols des Christentums
LOCATION:Gemeindehaus Großgoltern\, Gutsstraße 6\, 30890\, Barsinghausen 
 (OT Großgoltern)
SUMMARY:Seniorennachmittag Großgoltern/Göxe und Stemmen
END:VEVENT
END:VCALENDAR
