BEGIN:VCALENDAR
VERSION:2.0
PRODID:icalendar-ruby
CALSCALE:GREGORIAN
BEGIN:VEVENT
DTSTAMP:20260424T114843Z
UID:event-occurrence-a3c00edd-abd3-451c-860c-bdd03029a598-event-eeca671c-3e
 f6-4196-9024-7569093dd531@termine-e
DTSTART:20260429T074500
DTEND:20260429T000000
CLASS:PUBLIC
LOCATION:St. Katharinenkirche\, An der Katharinenkirche 4\, 49074\, Osnabr
 ück
SUMMARY:Morgenandacht&Frühstück
END:VEVENT
BEGIN:VEVENT
DTSTAMP:20260424T114843Z
UID:event-occurrence-d1281ff5-8951-47db-940c-ffc9eef5627d-event-eeca671c-3e
 f6-4196-9024-7569093dd531@termine-e
DTSTART:20260506T074500
DTEND:20260506T000000
CLASS:PUBLIC
LOCATION:St. Katharinenkirche\, An der Katharinenkirche 4\, 49074\, Osnabr
 ück
SUMMARY:Morgenandacht&Frühstück
END:VEVENT
BEGIN:VEVENT
DTSTAMP:20260424T114843Z
UID:event-occurrence-d1ce0e73-48c1-486e-aad9-ee512233bf25-event-eeca671c-3e
 f6-4196-9024-7569093dd531@termine-e
DTSTART:20260513T074500
DTEND:20260513T000000
CLASS:PUBLIC
LOCATION:St. Katharinenkirche\, An der Katharinenkirche 4\, 49074\, Osnabr
 ück
SUMMARY:Morgenandacht&Frühstück
END:VEVENT
BEGIN:VEVENT
DTSTAMP:20260424T114843Z
UID:event-occurrence-b8c9e6c0-bfa8-4497-9efe-558953f3169a-event-eeca671c-3e
 f6-4196-9024-7569093dd531@termine-e
DTSTART:20260520T074500
DTEND:20260520T000000
CLASS:PUBLIC
LOCATION:St. Katharinenkirche\, An der Katharinenkirche 4\, 49074\, Osnabr
 ück
SUMMARY:Morgenandacht&Frühstück
END:VEVENT
BEGIN:VEVENT
DTSTAMP:20260424T114843Z
UID:event-occurrence-9a7446b5-b8ea-40db-86c0-f6149d1aeac1-event-eeca671c-3e
 f6-4196-9024-7569093dd531@termine-e
DTSTART:20260527T074500
DTEND:20260527T000000
CLASS:PUBLIC
LOCATION:St. Katharinenkirche\, An der Katharinenkirche 4\, 49074\, Osnabr
 ück
SUMMARY:Morgenandacht&Frühstück
END:VEVENT
BEGIN:VEVENT
DTSTAMP:20260424T114843Z
UID:event-occurrence-68916b13-d243-4333-b7f2-3fc36abf247f-event-eeca671c-3e
 f6-4196-9024-7569093dd531@termine-e
DTSTART:20260603T074500
DTEND:20260603T000000
CLASS:PUBLIC
LOCATION:St. Katharinenkirche\, An der Katharinenkirche 4\, 49074\, Osnabr
 ück
SUMMARY:Morgenandacht&Frühstück
END:VEVENT
BEGIN:VEVENT
DTSTAMP:20260424T114843Z
UID:event-occurrence-8c71207f-287f-401d-9f9d-4adbedf8b271-event-eeca671c-3e
 f6-4196-9024-7569093dd531@termine-e
DTSTART:20260610T074500
DTEND:20260610T000000
CLASS:PUBLIC
LOCATION:St. Katharinenkirche\, An der Katharinenkirche 4\, 49074\, Osnabr
 ück
SUMMARY:Morgenandacht&Frühstück
END:VEVENT
BEGIN:VEVENT
DTSTAMP:20260424T114843Z
UID:event-occurrence-8408d5a8-9493-4b56-a69c-6e057f093344-event-eeca671c-3e
 f6-4196-9024-7569093dd531@termine-e
DTSTART:20260617T074500
DTEND:20260617T000000
CLASS:PUBLIC
LOCATION:St. Katharinenkirche\, An der Katharinenkirche 4\, 49074\, Osnabr
 ück
SUMMARY:Morgenandacht&Frühstück
END:VEVENT
BEGIN:VEVENT
DTSTAMP:20260424T114843Z
UID:event-occurrence-db87e74c-125f-4f8c-89a9-16e19054f060-event-eeca671c-3e
 f6-4196-9024-7569093dd531@termine-e
DTSTART:20260624T074500
DTEND:20260624T000000
CLASS:PUBLIC
LOCATION:St. Katharinenkirche\, An der Katharinenkirche 4\, 49074\, Osnabr
 ück
SUMMARY:Morgenandacht&Frühstück
END:VEVENT
BEGIN:VEVENT
DTSTAMP:20260424T114843Z
UID:event-occurrence-8789366d-016d-4813-8404-7b11775f87d6-event-eeca671c-3e
 f6-4196-9024-7569093dd531@termine-e
DTSTART:20260701T074500
DTEND:20260701T000000
CLASS:PUBLIC
LOCATION:St. Katharinenkirche\, An der Katharinenkirche 4\, 49074\, Osnabr
 ück
SUMMARY:Morgenandacht&Frühstück
END:VEVENT
BEGIN:VEVENT
DTSTAMP:20260424T114843Z
UID:event-occurrence-e0a4506b-7a55-4e09-bfaa-acabe8fbd82b-event-eeca671c-3e
 f6-4196-9024-7569093dd531@termine-e
DTSTART:20260708T074500
DTEND:20260708T000000
CLASS:PUBLIC
LOCATION:St. Katharinenkirche\, An der Katharinenkirche 4\, 49074\, Osnabr
 ück
SUMMARY:Morgenandacht&Frühstück
END:VEVENT
END:VCALENDAR
