BEGIN:VCALENDAR
VERSION:2.0
PRODID:icalendar-ruby
CALSCALE:GREGORIAN
BEGIN:VEVENT
DTSTAMP:20260309T073723Z
UID:event-occurrence-b4da94b6-19b8-4fc7-a164-f4a7cf15621a-event-edc131f7-45
 e1-44c2-89ac-8190810ec151@termine-e
DTSTART:20260315T100000
DTEND:20260315T110000
CLASS:PUBLIC
DESCRIPTION:Vorstellungsgottesdienst der Konfirmanden
LOCATION:Ev. - luth. Kirchengemeinde Großheide\,\, Schloßstraße 34-37\, 
 26532\, Großheide
SUMMARY:Vorstellungsgottesdienst der Konfirmanden
END:VEVENT
END:VCALENDAR
