BEGIN:VCALENDAR
VERSION:2.0
PRODID:icalendar-ruby
CALSCALE:GREGORIAN
BEGIN:VEVENT
DTSTAMP:20260415T183308Z
UID:event-occurrence-9debb9c1-8741-4e06-a42b-5e4536cc765b-event-ebc390fb-a8
 21-43ba-a30b-28132c9e8aef@termine-e
DTSTART:20260426T110000
DTEND:20260426T000000
CLASS:PUBLIC
DESCRIPTION:Konfirmation I in der Kreuzkirche mit Pastor Meißner
LOCATION:Kreuzkirche Lingen\, 49808\, Lingen
SUMMARY:Konfirmation I in der Kreuzkirche mit Pastor Meißner
END:VEVENT
END:VCALENDAR
