BEGIN:VCALENDAR
VERSION:2.0
PRODID:icalendar-ruby
CALSCALE:GREGORIAN
BEGIN:VEVENT
DTSTAMP:20260414T072634Z
UID:event-occurrence-84621833-862e-4240-875e-b821855463dc-event-eac3971b-d4
 5c-46e5-ad43-77cec6c44bf4@termine-e
DTSTART:20260827T100000
DTEND:20260827T000000
CLASS:PUBLIC
LOCATION:Lukaskirche\, Schlesierstr. 5\, 31139\, Hildesheim
SUMMARY:Besuchsdienst für Zugezogene
END:VEVENT
END:VCALENDAR
