BEGIN:VCALENDAR
VERSION:2.0
PRODID:icalendar-ruby
CALSCALE:GREGORIAN
BEGIN:VEVENT
DTSTAMP:20260421T133532Z
UID:event-occurrence-74831bcd-1f34-495f-ab28-94ed381c7942-event-ea379c53-4c
 6f-4851-b964-dba8fd68ae68@termine-e
DTSTART:20260510T100000
DTEND:20260510T000000
CLASS:PUBLIC
LOCATION:St. Johannis-Kirche Lüchow\, An der St.-Johannis-Kirche\, 29439\,
  Lüchow
SUMMARY:Gottesdienst zum (Groß)-Muttertag- Pn. Hülsebus
END:VEVENT
END:VCALENDAR
