BEGIN:VCALENDAR
VERSION:2.0
PRODID:icalendar-ruby
CALSCALE:GREGORIAN
BEGIN:VEVENT
DTSTAMP:20260420T094452Z
UID:event-occurrence-430736d5-5a1c-4e99-848c-424374c8d841-event-e9ec345f-c0
 22-4776-b294-252e308e0b54@termine-e
DTSTART:20260813T170000
DTEND:20260813T000000
CLASS:PUBLIC
DESCRIPTION:mit Pastor Freytag und Team sowie dem Gitarrenkreis der St. Nik
 olaus-Kirchengemeinde
LOCATION:Paulus-Kirchenzentrum\, Berliner Ring 17\, 31303\, Burgdorf
SUMMARY:Einschulungsgottesdienst des Gymnasium Burgdorf im Paulus-Kirchenze
 ntrum
END:VEVENT
END:VCALENDAR
