BEGIN:VCALENDAR
VERSION:2.0
PRODID:icalendar-ruby
CALSCALE:GREGORIAN
BEGIN:VEVENT
DTSTAMP:20260310T094030Z
UID:event-occurrence-f39b5ff9-2a27-4b83-88ae-e2a73cac332d-event-e8ea0270-98
 e7-4017-9ba0-14593c29a66c@termine-e
DTSTART:20260329T103000
DTEND:20260329T000000
CLASS:PUBLIC
DESCRIPTION:Pastorin Elster
LOCATION:Andreasgemeinde Norden\, Gottfried-Keller-Str. 3\, 26506\, Norden
SUMMARY:Gottesdienst
END:VEVENT
END:VCALENDAR
