BEGIN:VCALENDAR
VERSION:2.0
PRODID:icalendar-ruby
CALSCALE:GREGORIAN
BEGIN:VEVENT
DTSTAMP:20241220T104051Z
UID:event-occurrence-1a19efa4-1b3d-4b1a-a1c7-02a2b62adefd-event-e8c28b92-e6
 c2-4238-96ae-1652ba58b485@termine-e
DTSTART:20250117T160000
DTEND:20250118T170000
CLASS:PUBLIC
DESCRIPTION:2 Tage mit Krimi-Brunch und Autorenlesung. Christian Oehlschlä
 ger hat einen neuen Heide-Krimi geschrieben und liest am 17.01.2025 in Her
 mannsburg. Wir besuchen die Lesung und denken davor darüber nach\, was ei
 gentlich einen Krimi spannend macht. Auch auf die Besonderheiten eines Hei
 mat-Krimis werden wir eingehen. Der Fundort der ausgegrabenen Knochen ist 
 nicht weit von uns entfernt. Wir machen uns gemeinsam auf die historische 
 Spurensuche. Vorher stärken wir uns allerdings an einem Brunch\, den...
LOCATION:Ev. Bildungszentrum Hermannsburg\, Lutterweg 16\, 29320\, Hermanns
 burg
SUMMARY:Wie funktioniert eigentlich ein Heimat-Krimi? / Seminar-Nr. 25-025
END:VEVENT
END:VCALENDAR
